BEGIN:VCALENDAR
VERSION:2.0
PRODID:icalendar-ruby
CALSCALE:GREGORIAN
METHOD:PUBLISH
X-WR-CALNAME:Open League Calendrier
BEGIN:VTIMEZONE
TZID:America/Denver
BEGIN:DAYLIGHT
DTSTART:20260308T030000
TZOFFSETFROM:-0700
TZOFFSETTO:-0600
RRULE:FREQ=YEARLY;BYDAY=2SU;BYMONTH=3
TZNAME:MDT
END:DAYLIGHT
BEGIN:STANDARD
DTSTART:20261101T010000
TZOFFSETFROM:-0600
TZOFFSETTO:-0700
RRULE:FREQ=YEARLY;BYDAY=1SU;BYMONTH=11
TZNAME:MST
END:STANDARD
END:VTIMEZONE
BEGIN:VEVENT
DTSTAMP:20260421T015404Z
UID:drawid:194537
DTSTART:20251105T190000
DTEND:20251105T210000
DESCRIPTION:Parties: TBD\, TBD\, TBD\, TBD
LOCATION:837 Main St\, Pincher Creek\, T0K 1W0\, AB\, CA
SEQUENCE:1776736444
SUMMARY:Open League
URL;VALUE=URI:https://pincher-creek.curling.io/fr/events/25850-open-league/
 draws
END:VEVENT
BEGIN:VEVENT
DTSTAMP:20260421T015404Z
UID:drawid:194538
DTSTART:20251105T203000
DTEND:20251105T223000
DESCRIPTION:Parties: TBD
LOCATION:837 Main St\, Pincher Creek\, T0K 1W0\, AB\, CA
SEQUENCE:1776736444
SUMMARY:Open League
URL;VALUE=URI:https://pincher-creek.curling.io/fr/events/25850-open-league/
 draws
END:VEVENT
BEGIN:VEVENT
DTSTAMP:20260421T015404Z
UID:drawid:194539
DTSTART:20251106T190000
DTEND:20251106T210000
DESCRIPTION:Parties: TBD\, TBD\, TBD\, TBD
LOCATION:837 Main St\, Pincher Creek\, T0K 1W0\, AB\, CA
SEQUENCE:1776736444
SUMMARY:Open League
URL;VALUE=URI:https://pincher-creek.curling.io/fr/events/25850-open-league/
 draws
END:VEVENT
BEGIN:VEVENT
DTSTAMP:20260421T015404Z
UID:drawid:194550
DTSTART:20251112T190000
DTEND:20251112T210000
DESCRIPTION:Parties: TBD\, TBD\, TBD\, TBD
LOCATION:837 Main St\, Pincher Creek\, T0K 1W0\, AB\, CA
SEQUENCE:1776736444
SUMMARY:Open League
URL;VALUE=URI:https://pincher-creek.curling.io/fr/events/25850-open-league/
 draws
END:VEVENT
BEGIN:VEVENT
DTSTAMP:20260421T015404Z
UID:drawid:194551
DTSTART:20251112T203000
DTEND:20251112T223000
DESCRIPTION:Parties: TBD
LOCATION:837 Main St\, Pincher Creek\, T0K 1W0\, AB\, CA
SEQUENCE:1776736444
SUMMARY:Open League
URL;VALUE=URI:https://pincher-creek.curling.io/fr/events/25850-open-league/
 draws
END:VEVENT
BEGIN:VEVENT
DTSTAMP:20260421T015404Z
UID:drawid:194552
DTSTART:20251113T190000
DTEND:20251113T210000
DESCRIPTION:Parties: TBD\, TBD\, TBD\, TBD
LOCATION:837 Main St\, Pincher Creek\, T0K 1W0\, AB\, CA
SEQUENCE:1776736444
SUMMARY:Open League
URL;VALUE=URI:https://pincher-creek.curling.io/fr/events/25850-open-league/
 draws
END:VEVENT
BEGIN:VEVENT
DTSTAMP:20260421T015404Z
UID:drawid:194553
DTSTART:20251119T190000
DTEND:20251119T210000
DESCRIPTION:Parties: TBD\, TBD\, TBD\, TBD
LOCATION:837 Main St\, Pincher Creek\, T0K 1W0\, AB\, CA
SEQUENCE:1776736444
SUMMARY:Open League
URL;VALUE=URI:https://pincher-creek.curling.io/fr/events/25850-open-league/
 draws
END:VEVENT
BEGIN:VEVENT
DTSTAMP:20260421T015404Z
UID:drawid:194557
DTSTART:20251119T203000
DTEND:20251119T223000
DESCRIPTION:Parties: TBD
LOCATION:837 Main St\, Pincher Creek\, T0K 1W0\, AB\, CA
SEQUENCE:1776736444
SUMMARY:Open League
URL;VALUE=URI:https://pincher-creek.curling.io/fr/events/25850-open-league/
 draws
END:VEVENT
BEGIN:VEVENT
DTSTAMP:20260421T015404Z
UID:drawid:194555
DTSTART:20251120T190000
DTEND:20251120T210000
DESCRIPTION:Parties: TBD\, TBD\, TBD\, TBD
LOCATION:837 Main St\, Pincher Creek\, T0K 1W0\, AB\, CA
SEQUENCE:1776736444
SUMMARY:Open League
URL;VALUE=URI:https://pincher-creek.curling.io/fr/events/25850-open-league/
 draws
END:VEVENT
BEGIN:VEVENT
DTSTAMP:20260421T015404Z
UID:drawid:194656
DTSTART:20251126T190000
DTEND:20251126T210000
DESCRIPTION:Parties: TBD\, TBD\, TBD\, TBD
LOCATION:837 Main St\, Pincher Creek\, T0K 1W0\, AB\, CA
SEQUENCE:1776736444
SUMMARY:Open League
URL;VALUE=URI:https://pincher-creek.curling.io/fr/events/25850-open-league/
 draws
END:VEVENT
BEGIN:VEVENT
DTSTAMP:20260421T015404Z
UID:drawid:196193
DTSTART:20251126T203000
DTEND:20251126T223000
DESCRIPTION:Parties: TBD
LOCATION:837 Main St\, Pincher Creek\, T0K 1W0\, AB\, CA
SEQUENCE:1776736444
SUMMARY:Open League
URL;VALUE=URI:https://pincher-creek.curling.io/fr/events/25850-open-league/
 draws
END:VEVENT
BEGIN:VEVENT
DTSTAMP:20260421T015404Z
UID:drawid:194657
DTSTART:20251127T190000
DTEND:20251127T210000
DESCRIPTION:Parties: TBD\, TBD\, TBD\, TBD
LOCATION:837 Main St\, Pincher Creek\, T0K 1W0\, AB\, CA
SEQUENCE:1776736444
SUMMARY:Open League
URL;VALUE=URI:https://pincher-creek.curling.io/fr/events/25850-open-league/
 draws
END:VEVENT
BEGIN:VEVENT
DTSTAMP:20260421T015404Z
UID:drawid:196194
DTSTART:20251203T190000
DTEND:20251203T210000
DESCRIPTION:Parties: TBD\, TBD\, TBD\, TBD
LOCATION:837 Main St\, Pincher Creek\, T0K 1W0\, AB\, CA
SEQUENCE:1776736444
SUMMARY:Open League
URL;VALUE=URI:https://pincher-creek.curling.io/fr/events/25850-open-league/
 draws
END:VEVENT
BEGIN:VEVENT
DTSTAMP:20260421T015404Z
UID:drawid:196195
DTSTART:20251203T203000
DTEND:20251203T223000
DESCRIPTION:Parties: TBD
LOCATION:837 Main St\, Pincher Creek\, T0K 1W0\, AB\, CA
SEQUENCE:1776736444
SUMMARY:Open League
URL;VALUE=URI:https://pincher-creek.curling.io/fr/events/25850-open-league/
 draws
END:VEVENT
BEGIN:VEVENT
DTSTAMP:20260421T015404Z
UID:drawid:196196
DTSTART:20251204T190000
DTEND:20251204T210000
DESCRIPTION:Parties: TBD\, TBD\, TBD\, TBD
LOCATION:837 Main St\, Pincher Creek\, T0K 1W0\, AB\, CA
SEQUENCE:1776736444
SUMMARY:Open League
URL;VALUE=URI:https://pincher-creek.curling.io/fr/events/25850-open-league/
 draws
END:VEVENT
BEGIN:VEVENT
DTSTAMP:20260421T015404Z
UID:drawid:196197
DTSTART:20251210T190000
DTEND:20251210T210000
DESCRIPTION:Parties: TBD\, TBD\, TBD\, TBD
LOCATION:837 Main St\, Pincher Creek\, T0K 1W0\, AB\, CA
SEQUENCE:1776736444
SUMMARY:Open League
URL;VALUE=URI:https://pincher-creek.curling.io/fr/events/25850-open-league/
 draws
END:VEVENT
BEGIN:VEVENT
DTSTAMP:20260421T015404Z
UID:drawid:196198
DTSTART:20251210T203000
DTEND:20251210T223000
DESCRIPTION:Parties: TBD
LOCATION:837 Main St\, Pincher Creek\, T0K 1W0\, AB\, CA
SEQUENCE:1776736444
SUMMARY:Open League
URL;VALUE=URI:https://pincher-creek.curling.io/fr/events/25850-open-league/
 draws
END:VEVENT
BEGIN:VEVENT
DTSTAMP:20260421T015404Z
UID:drawid:196199
DTSTART:20251211T190000
DTEND:20251211T210000
DESCRIPTION:Parties: TBD\, TBD\, TBD\, TBD
LOCATION:837 Main St\, Pincher Creek\, T0K 1W0\, AB\, CA
SEQUENCE:1776736444
SUMMARY:Open League
URL;VALUE=URI:https://pincher-creek.curling.io/fr/events/25850-open-league/
 draws
END:VEVENT
BEGIN:VEVENT
DTSTAMP:20260421T015404Z
UID:drawid:198790
DTSTART:20251217T190000
DTEND:20251217T210000
DESCRIPTION:Parties: TBD\, TBD\, TBD\, TBD
LOCATION:837 Main St\, Pincher Creek\, T0K 1W0\, AB\, CA
SEQUENCE:1776736444
SUMMARY:Open League
URL;VALUE=URI:https://pincher-creek.curling.io/fr/events/25850-open-league/
 draws
END:VEVENT
BEGIN:VEVENT
DTSTAMP:20260421T015404Z
UID:drawid:198792
DTSTART:20251217T203000
DTEND:20251217T223000
DESCRIPTION:Parties: TBD
LOCATION:837 Main St\, Pincher Creek\, T0K 1W0\, AB\, CA
SEQUENCE:1776736444
SUMMARY:Open League
URL;VALUE=URI:https://pincher-creek.curling.io/fr/events/25850-open-league/
 draws
END:VEVENT
BEGIN:VEVENT
DTSTAMP:20260421T015404Z
UID:drawid:198791
DTSTART:20251218T190000
DTEND:20251218T210000
DESCRIPTION:Parties: TBD\, TBD\, TBD\, TBD
LOCATION:837 Main St\, Pincher Creek\, T0K 1W0\, AB\, CA
SEQUENCE:1776736444
SUMMARY:Open League
URL;VALUE=URI:https://pincher-creek.curling.io/fr/events/25850-open-league/
 draws
END:VEVENT
BEGIN:VEVENT
DTSTAMP:20260421T015404Z
UID:drawid:198793
DTSTART:20260107T190000
DTEND:20260107T210000
DESCRIPTION:Parties: TBD\, TBD\, TBD\, TBD
LOCATION:837 Main St\, Pincher Creek\, T0K 1W0\, AB\, CA
SEQUENCE:1776736444
SUMMARY:Open League
URL;VALUE=URI:https://pincher-creek.curling.io/fr/events/25850-open-league/
 draws
END:VEVENT
BEGIN:VEVENT
DTSTAMP:20260421T015404Z
UID:drawid:198797
DTSTART:20260107T203000
DTEND:20260107T223000
DESCRIPTION:Parties: TBD
LOCATION:837 Main St\, Pincher Creek\, T0K 1W0\, AB\, CA
SEQUENCE:1776736444
SUMMARY:Open League
URL;VALUE=URI:https://pincher-creek.curling.io/fr/events/25850-open-league/
 draws
END:VEVENT
BEGIN:VEVENT
DTSTAMP:20260421T015404Z
UID:drawid:198795
DTSTART:20260108T190000
DTEND:20260108T210000
DESCRIPTION:Parties: TBD\, TBD\, TBD\, TBD
LOCATION:837 Main St\, Pincher Creek\, T0K 1W0\, AB\, CA
SEQUENCE:1776736444
SUMMARY:Open League
URL;VALUE=URI:https://pincher-creek.curling.io/fr/events/25850-open-league/
 draws
END:VEVENT
BEGIN:VEVENT
DTSTAMP:20260421T015404Z
UID:drawid:198798
DTSTART:20260114T190000
DTEND:20260114T210000
DESCRIPTION:Parties: TBD\, TBD\, TBD\, TBD
LOCATION:837 Main St\, Pincher Creek\, T0K 1W0\, AB\, CA
SEQUENCE:1776736444
SUMMARY:Open League
URL;VALUE=URI:https://pincher-creek.curling.io/fr/events/25850-open-league/
 draws
END:VEVENT
BEGIN:VEVENT
DTSTAMP:20260421T015404Z
UID:drawid:198799
DTSTART:20260114T203000
DTEND:20260114T223000
DESCRIPTION:Parties: TBD
LOCATION:837 Main St\, Pincher Creek\, T0K 1W0\, AB\, CA
SEQUENCE:1776736444
SUMMARY:Open League
URL;VALUE=URI:https://pincher-creek.curling.io/fr/events/25850-open-league/
 draws
END:VEVENT
BEGIN:VEVENT
DTSTAMP:20260421T015404Z
UID:drawid:198800
DTSTART:20260115T190000
DTEND:20260115T210000
DESCRIPTION:Parties: TBD\, TBD\, TBD\, TBD
LOCATION:837 Main St\, Pincher Creek\, T0K 1W0\, AB\, CA
SEQUENCE:1776736444
SUMMARY:Open League
URL;VALUE=URI:https://pincher-creek.curling.io/fr/events/25850-open-league/
 draws
END:VEVENT
BEGIN:VEVENT
DTSTAMP:20260421T015404Z
UID:drawid:198801
DTSTART:20260121T190000
DTEND:20260121T210000
DESCRIPTION:Parties: TBD\, TBD\, TBD\, TBD
LOCATION:837 Main St\, Pincher Creek\, T0K 1W0\, AB\, CA
SEQUENCE:1776736444
SUMMARY:Open League
URL;VALUE=URI:https://pincher-creek.curling.io/fr/events/25850-open-league/
 draws
END:VEVENT
BEGIN:VEVENT
DTSTAMP:20260421T015404Z
UID:drawid:198802
DTSTART:20260121T203000
DTEND:20260121T223000
DESCRIPTION:Parties: TBD
LOCATION:837 Main St\, Pincher Creek\, T0K 1W0\, AB\, CA
SEQUENCE:1776736444
SUMMARY:Open League
URL;VALUE=URI:https://pincher-creek.curling.io/fr/events/25850-open-league/
 draws
END:VEVENT
BEGIN:VEVENT
DTSTAMP:20260421T015404Z
UID:drawid:198803
DTSTART:20260122T190000
DTEND:20260122T210000
DESCRIPTION:Parties: TBD\, TBD\, TBD\, TBD
LOCATION:837 Main St\, Pincher Creek\, T0K 1W0\, AB\, CA
SEQUENCE:1776736444
SUMMARY:Open League
URL;VALUE=URI:https://pincher-creek.curling.io/fr/events/25850-open-league/
 draws
END:VEVENT
BEGIN:VEVENT
DTSTAMP:20260421T015404Z
UID:drawid:198804
DTSTART:20260128T190000
DTEND:20260128T210000
DESCRIPTION:Parties: TBD\, TBD\, TBD\, TBD
LOCATION:837 Main St\, Pincher Creek\, T0K 1W0\, AB\, CA
SEQUENCE:1776736444
SUMMARY:Open League
URL;VALUE=URI:https://pincher-creek.curling.io/fr/events/25850-open-league/
 draws
END:VEVENT
BEGIN:VEVENT
DTSTAMP:20260421T015404Z
UID:drawid:198805
DTSTART:20260128T203000
DTEND:20260128T223000
DESCRIPTION:Parties: TBD
LOCATION:837 Main St\, Pincher Creek\, T0K 1W0\, AB\, CA
SEQUENCE:1776736444
SUMMARY:Open League
URL;VALUE=URI:https://pincher-creek.curling.io/fr/events/25850-open-league/
 draws
END:VEVENT
BEGIN:VEVENT
DTSTAMP:20260421T015404Z
UID:drawid:198806
DTSTART:20260129T190000
DTEND:20260129T210000
DESCRIPTION:Parties: TBD\, TBD\, TBD\, TBD
LOCATION:837 Main St\, Pincher Creek\, T0K 1W0\, AB\, CA
SEQUENCE:1776736444
SUMMARY:Open League
URL;VALUE=URI:https://pincher-creek.curling.io/fr/events/25850-open-league/
 draws
END:VEVENT
BEGIN:VEVENT
DTSTAMP:20260421T015404Z
UID:drawid:198807
DTSTART:20260204T190000
DTEND:20260204T210000
DESCRIPTION:Parties: TBD\, TBD\, TBD\, TBD
LOCATION:837 Main St\, Pincher Creek\, T0K 1W0\, AB\, CA
SEQUENCE:1776736444
SUMMARY:Open League
URL;VALUE=URI:https://pincher-creek.curling.io/fr/events/25850-open-league/
 draws
END:VEVENT
BEGIN:VEVENT
DTSTAMP:20260421T015404Z
UID:drawid:198808
DTSTART:20260204T203000
DTEND:20260204T223000
DESCRIPTION:Parties: TBD
LOCATION:837 Main St\, Pincher Creek\, T0K 1W0\, AB\, CA
SEQUENCE:1776736444
SUMMARY:Open League
URL;VALUE=URI:https://pincher-creek.curling.io/fr/events/25850-open-league/
 draws
END:VEVENT
BEGIN:VEVENT
DTSTAMP:20260421T015404Z
UID:drawid:198809
DTSTART:20260205T190000
DTEND:20260205T210000
DESCRIPTION:Parties: TBD\, TBD\, TBD\, TBD
LOCATION:837 Main St\, Pincher Creek\, T0K 1W0\, AB\, CA
SEQUENCE:1776736444
SUMMARY:Open League
URL;VALUE=URI:https://pincher-creek.curling.io/fr/events/25850-open-league/
 draws
END:VEVENT
BEGIN:VEVENT
DTSTAMP:20260421T015404Z
UID:drawid:198810
DTSTART:20260218T190000
DTEND:20260218T210000
DESCRIPTION:Parties: TBD\, TBD\, TBD\, TBD
LOCATION:837 Main St\, Pincher Creek\, T0K 1W0\, AB\, CA
SEQUENCE:1776736444
SUMMARY:Open League
URL;VALUE=URI:https://pincher-creek.curling.io/fr/events/25850-open-league/
 draws
END:VEVENT
BEGIN:VEVENT
DTSTAMP:20260421T015404Z
UID:drawid:198811
DTSTART:20260218T203000
DTEND:20260218T223000
DESCRIPTION:Parties: TBD
LOCATION:837 Main St\, Pincher Creek\, T0K 1W0\, AB\, CA
SEQUENCE:1776736444
SUMMARY:Open League
URL;VALUE=URI:https://pincher-creek.curling.io/fr/events/25850-open-league/
 draws
END:VEVENT
BEGIN:VEVENT
DTSTAMP:20260421T015404Z
UID:drawid:198812
DTSTART:20260219T190000
DTEND:20260219T210000
DESCRIPTION:Parties: TBD\, TBD\, TBD\, TBD
LOCATION:837 Main St\, Pincher Creek\, T0K 1W0\, AB\, CA
SEQUENCE:1776736444
SUMMARY:Open League
URL;VALUE=URI:https://pincher-creek.curling.io/fr/events/25850-open-league/
 draws
END:VEVENT
BEGIN:VEVENT
DTSTAMP:20260421T015404Z
UID:drawid:198813
DTSTART:20260225T190000
DTEND:20260225T210000
DESCRIPTION:Parties: TBD\, TBD\, TBD\, TBD
LOCATION:837 Main St\, Pincher Creek\, T0K 1W0\, AB\, CA
SEQUENCE:1776736444
SUMMARY:Open League
URL;VALUE=URI:https://pincher-creek.curling.io/fr/events/25850-open-league/
 draws
END:VEVENT
BEGIN:VEVENT
DTSTAMP:20260421T015404Z
UID:drawid:198814
DTSTART:20260225T203000
DTEND:20260225T223000
DESCRIPTION:Parties: TBD
LOCATION:837 Main St\, Pincher Creek\, T0K 1W0\, AB\, CA
SEQUENCE:1776736444
SUMMARY:Open League
URL;VALUE=URI:https://pincher-creek.curling.io/fr/events/25850-open-league/
 draws
END:VEVENT
BEGIN:VEVENT
DTSTAMP:20260421T015404Z
UID:drawid:198815
DTSTART:20260226T190000
DTEND:20260226T210000
DESCRIPTION:Parties: TBD\, TBD\, TBD\, TBD
LOCATION:837 Main St\, Pincher Creek\, T0K 1W0\, AB\, CA
SEQUENCE:1776736444
SUMMARY:Open League
URL;VALUE=URI:https://pincher-creek.curling.io/fr/events/25850-open-league/
 draws
END:VEVENT
BEGIN:VEVENT
DTSTAMP:20260421T015404Z
UID:drawid:198816
DTSTART:20260304T190000
DTEND:20260304T210000
DESCRIPTION:Parties: TBD\, TBD\, TBD\, TBD
LOCATION:837 Main St\, Pincher Creek\, T0K 1W0\, AB\, CA
SEQUENCE:1776736444
SUMMARY:Open League
URL;VALUE=URI:https://pincher-creek.curling.io/fr/events/25850-open-league/
 draws
END:VEVENT
BEGIN:VEVENT
DTSTAMP:20260421T015404Z
UID:drawid:198817
DTSTART:20260304T203000
DTEND:20260304T223000
DESCRIPTION:Parties: TBD
LOCATION:837 Main St\, Pincher Creek\, T0K 1W0\, AB\, CA
SEQUENCE:1776736444
SUMMARY:Open League
URL;VALUE=URI:https://pincher-creek.curling.io/fr/events/25850-open-league/
 draws
END:VEVENT
BEGIN:VEVENT
DTSTAMP:20260421T015404Z
UID:drawid:198818
DTSTART:20260305T190000
DTEND:20260305T210000
DESCRIPTION:Parties: TBD\, TBD\, TBD\, TBD
LOCATION:837 Main St\, Pincher Creek\, T0K 1W0\, AB\, CA
SEQUENCE:1776736444
SUMMARY:Open League
URL;VALUE=URI:https://pincher-creek.curling.io/fr/events/25850-open-league/
 draws
END:VEVENT
BEGIN:VEVENT
DTSTAMP:20260421T015404Z
UID:drawid:198819
DTSTART:20260311T190000
DTEND:20260311T210000
DESCRIPTION:Parties: TBD\, TBD\, TBD\, TBD
LOCATION:837 Main St\, Pincher Creek\, T0K 1W0\, AB\, CA
SEQUENCE:1776736444
SUMMARY:Open League
URL;VALUE=URI:https://pincher-creek.curling.io/fr/events/25850-open-league/
 draws
END:VEVENT
BEGIN:VEVENT
DTSTAMP:20260421T015404Z
UID:drawid:198820
DTSTART:20260311T203000
DTEND:20260311T223000
DESCRIPTION:Parties: TBD
LOCATION:837 Main St\, Pincher Creek\, T0K 1W0\, AB\, CA
SEQUENCE:1776736444
SUMMARY:Open League
URL;VALUE=URI:https://pincher-creek.curling.io/fr/events/25850-open-league/
 draws
END:VEVENT
BEGIN:VEVENT
DTSTAMP:20260421T015404Z
UID:drawid:198821
DTSTART:20260312T190000
DTEND:20260312T210000
DESCRIPTION:Parties: TBD\, TBD\, TBD\, TBD
LOCATION:837 Main St\, Pincher Creek\, T0K 1W0\, AB\, CA
SEQUENCE:1776736444
SUMMARY:Open League
URL;VALUE=URI:https://pincher-creek.curling.io/fr/events/25850-open-league/
 draws
END:VEVENT
BEGIN:VEVENT
DTSTAMP:20260421T015404Z
UID:drawid:198822
DTSTART:20260318T190000
DTEND:20260318T210000
DESCRIPTION:Parties: TBD\, TBD\, TBD\, TBD
LOCATION:837 Main St\, Pincher Creek\, T0K 1W0\, AB\, CA
SEQUENCE:1776736444
SUMMARY:Open League
URL;VALUE=URI:https://pincher-creek.curling.io/fr/events/25850-open-league/
 draws
END:VEVENT
BEGIN:VEVENT
DTSTAMP:20260421T015404Z
UID:drawid:198823
DTSTART:20260318T203000
DTEND:20260318T223000
DESCRIPTION:Parties: TBD
LOCATION:837 Main St\, Pincher Creek\, T0K 1W0\, AB\, CA
SEQUENCE:1776736444
SUMMARY:Open League
URL;VALUE=URI:https://pincher-creek.curling.io/fr/events/25850-open-league/
 draws
END:VEVENT
BEGIN:VEVENT
DTSTAMP:20260421T015404Z
UID:drawid:198824
DTSTART:20260319T190000
DTEND:20260319T210000
DESCRIPTION:Parties: TBD\, TBD\, TBD\, TBD
LOCATION:837 Main St\, Pincher Creek\, T0K 1W0\, AB\, CA
SEQUENCE:1776736444
SUMMARY:Open League
URL;VALUE=URI:https://pincher-creek.curling.io/fr/events/25850-open-league/
 draws
END:VEVENT
END:VCALENDAR
